BEGIN:VCALENDAR
VERSION:2.0
PRODID:-//KGS Beeckstraße - ECPv6.15.20//NONSGML v1.0//EN
CALSCALE:GREGORIAN
METHOD:PUBLISH
X-ORIGINAL-URL:http://www.kgs-beeckstrasse.de
X-WR-CALDESC:Veranstaltungen für KGS Beeckstraße
REFRESH-INTERVAL;VALUE=DURATION:PT1H
X-Robots-Tag:noindex
X-PUBLISHED-TTL:PT1H
BEGIN:VTIMEZONE
TZID:Europe/Berlin
BEGIN:DAYLIGHT
TZOFFSETFROM:+0100
TZOFFSETTO:+0200
TZNAME:CEST
DTSTART:20240331T010000
END:DAYLIGHT
BEGIN:STANDARD
TZOFFSETFROM:+0200
TZOFFSETTO:+0100
TZNAME:CET
DTSTART:20241027T010000
END:STANDARD
BEGIN:DAYLIGHT
TZOFFSETFROM:+0100
TZOFFSETTO:+0200
TZNAME:CEST
DTSTART:20250330T010000
END:DAYLIGHT
BEGIN:STANDARD
TZOFFSETFROM:+0200
TZOFFSETTO:+0100
TZNAME:CET
DTSTART:20251026T010000
END:STANDARD
BEGIN:DAYLIGHT
TZOFFSETFROM:+0100
TZOFFSETTO:+0200
TZNAME:CEST
DTSTART:20260329T010000
END:DAYLIGHT
BEGIN:STANDARD
TZOFFSETFROM:+0200
TZOFFSETTO:+0100
TZNAME:CET
DTSTART:20261025T010000
END:STANDARD
BEGIN:DAYLIGHT
TZOFFSETFROM:+0100
TZOFFSETTO:+0200
TZNAME:CEST
DTSTART:20270328T010000
END:DAYLIGHT
BEGIN:STANDARD
TZOFFSETFROM:+0200
TZOFFSETTO:+0100
TZNAME:CET
DTSTART:20271031T010000
END:STANDARD
END:VTIMEZONE
BEGIN:VEVENT
DTSTART;VALUE=DATE:20251208
DTEND;VALUE=DATE:20251209
DTSTAMP:20260420T013458
CREATED:20250822T112836Z
LAST-MODIFIED:20250822T112836Z
UID:2871-1765152000-1765238399@www.kgs-beeckstrasse.de
SUMMARY:Nikolausbesuch
DESCRIPTION:
URL:http://www.kgs-beeckstrasse.de/events/nikolausbesuch-3/
END:VEVENT
BEGIN:VEVENT
DTSTART;TZID=Europe/Berlin:20251215T081500
DTEND;TZID=Europe/Berlin:20251215T090000
DTSTAMP:20260420T013458
CREATED:20250822T112952Z
LAST-MODIFIED:20250822T112952Z
UID:2873-1765786500-1765789200@www.kgs-beeckstrasse.de
SUMMARY:Adventssingen (alle Klassen\, mit Eltern)
DESCRIPTION:
URL:http://www.kgs-beeckstrasse.de/events/adventssingen-alle-klassen-mit-eltern/
END:VEVENT
BEGIN:VEVENT
DTSTART;VALUE=DATE:20251222
DTEND;VALUE=DATE:20260107
DTSTAMP:20260420T013458
CREATED:20250822T113044Z
LAST-MODIFIED:20250822T113044Z
UID:2875-1766361600-1767743999@www.kgs-beeckstrasse.de
SUMMARY:Weihnachtsferien
DESCRIPTION:
URL:http://www.kgs-beeckstrasse.de/events/weihnachtsferien-3/
END:VEVENT
END:VCALENDAR