BEGIN:VCALENDAR
VERSION:2.0
PRODID:-//KGS Beeckstraße - ECPv6.15.20//NONSGML v1.0//EN
CALSCALE:GREGORIAN
METHOD:PUBLISH
X-ORIGINAL-URL:http://www.kgs-beeckstrasse.de
X-WR-CALDESC:Veranstaltungen für KGS Beeckstraße
REFRESH-INTERVAL;VALUE=DURATION:PT1H
X-Robots-Tag:noindex
X-PUBLISHED-TTL:PT1H
BEGIN:VTIMEZONE
TZID:Europe/Berlin
BEGIN:DAYLIGHT
TZOFFSETFROM:+0100
TZOFFSETTO:+0200
TZNAME:CEST
DTSTART:20240331T010000
END:DAYLIGHT
BEGIN:STANDARD
TZOFFSETFROM:+0200
TZOFFSETTO:+0100
TZNAME:CET
DTSTART:20241027T010000
END:STANDARD
BEGIN:DAYLIGHT
TZOFFSETFROM:+0100
TZOFFSETTO:+0200
TZNAME:CEST
DTSTART:20250330T010000
END:DAYLIGHT
BEGIN:STANDARD
TZOFFSETFROM:+0200
TZOFFSETTO:+0100
TZNAME:CET
DTSTART:20251026T010000
END:STANDARD
BEGIN:DAYLIGHT
TZOFFSETFROM:+0100
TZOFFSETTO:+0200
TZNAME:CEST
DTSTART:20260329T010000
END:DAYLIGHT
BEGIN:STANDARD
TZOFFSETFROM:+0200
TZOFFSETTO:+0100
TZNAME:CET
DTSTART:20261025T010000
END:STANDARD
END:VTIMEZONE
BEGIN:VEVENT
DTSTART;TZID=Europe/Berlin:20251002T100000
DTEND;TZID=Europe/Berlin:20251002T110000
DTSTAMP:20260420T030414
CREATED:20250822T111422Z
LAST-MODIFIED:20250822T111422Z
UID:2839-1759399200-1759402800@www.kgs-beeckstrasse.de
SUMMARY:Theaterstück für Kl. 3 und 4 "Bauch über Kopf" (Grenzlandtheater)
DESCRIPTION:
URL:http://www.kgs-beeckstrasse.de/events/theaterstueck-fuer-kl-3-und-4-bauch-ueber-kopf-grenzlandtheater/
END:VEVENT
BEGIN:VEVENT
DTSTART;VALUE=DATE:20251003
DTEND;VALUE=DATE:20251004
DTSTAMP:20260420T030414
CREATED:20250822T111458Z
LAST-MODIFIED:20250822T111458Z
UID:2841-1759449600-1759535999@www.kgs-beeckstrasse.de
SUMMARY:frei: Tag der dt. Einheit
DESCRIPTION:
URL:http://www.kgs-beeckstrasse.de/events/frei-tag-der-dt-einheit-2/
END:VEVENT
BEGIN:VEVENT
DTSTART;VALUE=DATE:20251010
DTEND;VALUE=DATE:20251011
DTSTAMP:20260420T030414
CREATED:20250822T111519Z
LAST-MODIFIED:20250822T111519Z
UID:2843-1760054400-1760140799@www.kgs-beeckstrasse.de
SUMMARY:Mobilitätstag
DESCRIPTION:
URL:http://www.kgs-beeckstrasse.de/events/mobilitaetstag-2/
END:VEVENT
BEGIN:VEVENT
DTSTART;VALUE=DATE:20251010
DTEND;VALUE=DATE:20251011
DTSTAMP:20260420T030414
CREATED:20250822T111727Z
LAST-MODIFIED:20250822T111727Z
UID:2845-1760054400-1760140799@www.kgs-beeckstrasse.de
SUMMARY:OGS Konzeptionstag (keine OGS)
DESCRIPTION:
URL:http://www.kgs-beeckstrasse.de/events/ogs-konzeptionstag-keine-ogs/
END:VEVENT
BEGIN:VEVENT
DTSTART;VALUE=DATE:20251013
DTEND;VALUE=DATE:20251025
DTSTAMP:20260420T030414
CREATED:20250822T111804Z
LAST-MODIFIED:20250822T111804Z
UID:2847-1760313600-1761350399@www.kgs-beeckstrasse.de
SUMMARY:Herbstferien
DESCRIPTION:
URL:http://www.kgs-beeckstrasse.de/events/herbstferien-3/
END:VEVENT
BEGIN:VEVENT
DTSTART;VALUE=DATE:20251027
DTEND;VALUE=DATE:20251028
DTSTAMP:20260420T030414
CREATED:20250822T111937Z
LAST-MODIFIED:20250822T111937Z
UID:2849-1761523200-1761609599@www.kgs-beeckstrasse.de
SUMMARY:Radfahrausbildung Klasse 4
DESCRIPTION:
URL:http://www.kgs-beeckstrasse.de/events/radfahrausbildung-klasse-4/
END:VEVENT
BEGIN:VEVENT
DTSTART;VALUE=DATE:20251028
DTEND;VALUE=DATE:20251029
DTSTAMP:20260420T030414
CREATED:20250822T111953Z
LAST-MODIFIED:20250822T111953Z
UID:2851-1761609600-1761695999@www.kgs-beeckstrasse.de
SUMMARY:Radfahrausbildung Klasse 4
DESCRIPTION:
URL:http://www.kgs-beeckstrasse.de/events/radfahrausbildung-klasse-4-2/
END:VEVENT
BEGIN:VEVENT
DTSTART;TZID=Europe/Berlin:20251029T090000
DTEND;TZID=Europe/Berlin:20251029T100000
DTSTAMP:20260420T030414
CREATED:20250822T112103Z
LAST-MODIFIED:20250822T112103Z
UID:2855-1761728400-1761732000@www.kgs-beeckstrasse.de
SUMMARY:Tag der Offenen Tür
DESCRIPTION:
URL:http://www.kgs-beeckstrasse.de/events/tag-der-offenen-tuer-3/
END:VEVENT
BEGIN:VEVENT
DTSTART;VALUE=DATE:20251030
DTEND;VALUE=DATE:20251031
DTSTAMP:20260420T030414
CREATED:20250822T112010Z
LAST-MODIFIED:20250822T112010Z
UID:2853-1761782400-1761868799@www.kgs-beeckstrasse.de
SUMMARY:Radfahrausbildung Klasse 4
DESCRIPTION:
URL:http://www.kgs-beeckstrasse.de/events/radfahrausbildung-klasse-4-3/
END:VEVENT
END:VCALENDAR