BEGIN:VCALENDAR
VERSION:2.0
PRODID:-//KGS Beeckstraße - ECPv6.15.20//NONSGML v1.0//EN
CALSCALE:GREGORIAN
METHOD:PUBLISH
X-ORIGINAL-URL:http://www.kgs-beeckstrasse.de
X-WR-CALDESC:Veranstaltungen für KGS Beeckstraße
REFRESH-INTERVAL;VALUE=DURATION:PT1H
X-Robots-Tag:noindex
X-PUBLISHED-TTL:PT1H
BEGIN:VTIMEZONE
TZID:Europe/Berlin
BEGIN:DAYLIGHT
TZOFFSETFROM:+0100
TZOFFSETTO:+0200
TZNAME:CEST
DTSTART:20230326T010000
END:DAYLIGHT
BEGIN:STANDARD
TZOFFSETFROM:+0200
TZOFFSETTO:+0100
TZNAME:CET
DTSTART:20231029T010000
END:STANDARD
BEGIN:DAYLIGHT
TZOFFSETFROM:+0100
TZOFFSETTO:+0200
TZNAME:CEST
DTSTART:20240331T010000
END:DAYLIGHT
BEGIN:STANDARD
TZOFFSETFROM:+0200
TZOFFSETTO:+0100
TZNAME:CET
DTSTART:20241027T010000
END:STANDARD
BEGIN:DAYLIGHT
TZOFFSETFROM:+0100
TZOFFSETTO:+0200
TZNAME:CEST
DTSTART:20250330T010000
END:DAYLIGHT
BEGIN:STANDARD
TZOFFSETFROM:+0200
TZOFFSETTO:+0100
TZNAME:CET
DTSTART:20251026T010000
END:STANDARD
BEGIN:DAYLIGHT
TZOFFSETFROM:+0100
TZOFFSETTO:+0200
TZNAME:CEST
DTSTART:20260329T010000
END:DAYLIGHT
BEGIN:STANDARD
TZOFFSETFROM:+0200
TZOFFSETTO:+0100
TZNAME:CET
DTSTART:20261025T010000
END:STANDARD
END:VTIMEZONE
BEGIN:VEVENT
DTSTART;VALUE=DATE:20241119
DTEND;VALUE=DATE:20241206
DTSTAMP:20260420T223458
CREATED:20241001T123359Z
LAST-MODIFIED:20241001T123359Z
UID:2444-1731974400-1733443199@www.kgs-beeckstrasse.de
SUMMARY:Elternsprechtagwochen / Beratungsgespräche Kl. 1\, 2\, 3\, 4
DESCRIPTION:
URL:http://www.kgs-beeckstrasse.de/events/elternsprechtagwochen-beratungsgespraeche-kl-1-2-3-4/
END:VEVENT
BEGIN:VEVENT
DTSTART;VALUE=DATE:20241206
DTEND;VALUE=DATE:20241207
DTSTAMP:20260420T223458
CREATED:20241001T123540Z
LAST-MODIFIED:20241001T123540Z
UID:2446-1733443200-1733529599@www.kgs-beeckstrasse.de
SUMMARY:Nikolausbesuch
DESCRIPTION:
URL:http://www.kgs-beeckstrasse.de/events/nikolausbesuch-2/
END:VEVENT
BEGIN:VEVENT
DTSTART;VALUE=DATE:20241223
DTEND;VALUE=DATE:20250107
DTSTAMP:20260420T223458
CREATED:20241001T124400Z
LAST-MODIFIED:20241001T124400Z
UID:2448-1734912000-1736207999@www.kgs-beeckstrasse.de
SUMMARY:Weihnachtsferien
DESCRIPTION:
URL:http://www.kgs-beeckstrasse.de/events/weihnachtsferien-2/
END:VEVENT
END:VCALENDAR