BEGIN:VCALENDAR
VERSION:2.0
PRODID:-//KGS Beeckstraße - ECPv6.15.20//NONSGML v1.0//EN
CALSCALE:GREGORIAN
METHOD:PUBLISH
X-ORIGINAL-URL:http://www.kgs-beeckstrasse.de
X-WR-CALDESC:Veranstaltungen für KGS Beeckstraße
REFRESH-INTERVAL;VALUE=DURATION:PT1H
X-Robots-Tag:noindex
X-PUBLISHED-TTL:PT1H
BEGIN:VTIMEZONE
TZID:Europe/Berlin
BEGIN:DAYLIGHT
TZOFFSETFROM:+0100
TZOFFSETTO:+0200
TZNAME:CEST
DTSTART:20230326T010000
END:DAYLIGHT
BEGIN:STANDARD
TZOFFSETFROM:+0200
TZOFFSETTO:+0100
TZNAME:CET
DTSTART:20231029T010000
END:STANDARD
BEGIN:DAYLIGHT
TZOFFSETFROM:+0100
TZOFFSETTO:+0200
TZNAME:CEST
DTSTART:20240331T010000
END:DAYLIGHT
BEGIN:STANDARD
TZOFFSETFROM:+0200
TZOFFSETTO:+0100
TZNAME:CET
DTSTART:20241027T010000
END:STANDARD
BEGIN:DAYLIGHT
TZOFFSETFROM:+0100
TZOFFSETTO:+0200
TZNAME:CEST
DTSTART:20250330T010000
END:DAYLIGHT
BEGIN:STANDARD
TZOFFSETFROM:+0200
TZOFFSETTO:+0100
TZNAME:CET
DTSTART:20251026T010000
END:STANDARD
END:VTIMEZONE
BEGIN:VEVENT
DTSTART;TZID=Europe/Berlin:20241001T160000
DTEND;TZID=Europe/Berlin:20241001T180000
DTSTAMP:20260421T012521
CREATED:20240821T091117Z
LAST-MODIFIED:20240821T091117Z
UID:2304-1727798400-1727805600@www.kgs-beeckstrasse.de
SUMMARY:Schulkonferenz
DESCRIPTION:
URL:http://www.kgs-beeckstrasse.de/events/schulkonferenz-3/
END:VEVENT
BEGIN:VEVENT
DTSTART;VALUE=DATE:20241003
DTEND;VALUE=DATE:20241004
DTSTAMP:20260421T012521
CREATED:20240821T091259Z
LAST-MODIFIED:20240821T091259Z
UID:2306-1727913600-1727999999@www.kgs-beeckstrasse.de
SUMMARY:FREI: Tag der dt. Einheit
DESCRIPTION:
URL:http://www.kgs-beeckstrasse.de/events/frei-tag-der-dt-einheit/
END:VEVENT
BEGIN:VEVENT
DTSTART;VALUE=DATE:20241007
DTEND;VALUE=DATE:20241012
DTSTAMP:20260421T012521
CREATED:20240821T091336Z
LAST-MODIFIED:20240821T091336Z
UID:2308-1728259200-1728691199@www.kgs-beeckstrasse.de
SUMMARY:Zirkus-Projekt
DESCRIPTION:
URL:http://www.kgs-beeckstrasse.de/events/zirkus-projekt/
END:VEVENT
BEGIN:VEVENT
DTSTART;TZID=Europe/Berlin:20241011T120000
DTEND;TZID=Europe/Berlin:20241011T170000
DTSTAMP:20260421T012521
CREATED:20240821T091428Z
LAST-MODIFIED:20240821T091428Z
UID:2310-1728648000-1728666000@www.kgs-beeckstrasse.de
SUMMARY:Zirkus-Aufführungen
DESCRIPTION:
URL:http://www.kgs-beeckstrasse.de/events/zirkus-auffuehrungen/
END:VEVENT
BEGIN:VEVENT
DTSTART;VALUE=DATE:20241014
DTEND;VALUE=DATE:20241026
DTSTAMP:20260421T012521
CREATED:20240821T091511Z
LAST-MODIFIED:20240821T091511Z
UID:2312-1728864000-1729900799@www.kgs-beeckstrasse.de
SUMMARY:Herbstferien
DESCRIPTION:
URL:http://www.kgs-beeckstrasse.de/events/herbstferien-2/
END:VEVENT
BEGIN:VEVENT
DTSTART;TZID=Europe/Berlin:20241031T090000
DTEND;TZID=Europe/Berlin:20241031T100000
DTSTAMP:20260421T012521
CREATED:20240821T091602Z
LAST-MODIFIED:20240821T091602Z
UID:2314-1730365200-1730368800@www.kgs-beeckstrasse.de
SUMMARY:Tag der Offenen Tür
DESCRIPTION:
URL:http://www.kgs-beeckstrasse.de/events/tag-der-offenen-tuer-2/
END:VEVENT
END:VCALENDAR