BEGIN:VCALENDAR
VERSION:2.0
PRODID:-//KGS Beeckstraße - ECPv6.15.20//NONSGML v1.0//EN
CALSCALE:GREGORIAN
METHOD:PUBLISH
X-WR-CALNAME:KGS Beeckstraße
X-ORIGINAL-URL:http://www.kgs-beeckstrasse.de
X-WR-CALDESC:Veranstaltungen für KGS Beeckstraße
REFRESH-INTERVAL;VALUE=DURATION:PT1H
X-Robots-Tag:noindex
X-PUBLISHED-TTL:PT1H
BEGIN:VTIMEZONE
TZID:Europe/Berlin
BEGIN:DAYLIGHT
TZOFFSETFROM:+0100
TZOFFSETTO:+0200
TZNAME:CEST
DTSTART:20230326T010000
END:DAYLIGHT
BEGIN:STANDARD
TZOFFSETFROM:+0200
TZOFFSETTO:+0100
TZNAME:CET
DTSTART:20231029T010000
END:STANDARD
BEGIN:DAYLIGHT
TZOFFSETFROM:+0100
TZOFFSETTO:+0200
TZNAME:CEST
DTSTART:20240331T010000
END:DAYLIGHT
BEGIN:STANDARD
TZOFFSETFROM:+0200
TZOFFSETTO:+0100
TZNAME:CET
DTSTART:20241027T010000
END:STANDARD
BEGIN:DAYLIGHT
TZOFFSETFROM:+0100
TZOFFSETTO:+0200
TZNAME:CEST
DTSTART:20250330T010000
END:DAYLIGHT
BEGIN:STANDARD
TZOFFSETFROM:+0200
TZOFFSETTO:+0100
TZNAME:CET
DTSTART:20251026T010000
END:STANDARD
END:VTIMEZONE
BEGIN:VEVENT
DTSTART;VALUE=DATE:20240902
DTEND;VALUE=DATE:20240907
DTSTAMP:20260421T025246
CREATED:20240821T085528Z
LAST-MODIFIED:20240821T085528Z
UID:2288-1725235200-1725667199@www.kgs-beeckstrasse.de
SUMMARY:Klassenpflegschaft alle Klassen
DESCRIPTION:
URL:http://www.kgs-beeckstrasse.de/events/klassenpflegschaft-alle-klassen-2/
END:VEVENT
BEGIN:VEVENT
DTSTART;VALUE=DATE:20240905
DTEND;VALUE=DATE:20240906
DTSTAMP:20260421T025246
CREATED:20240821T085725Z
LAST-MODIFIED:20240821T085725Z
UID:2290-1725494400-1725580799@www.kgs-beeckstrasse.de
SUMMARY:Zahnprophylaxe Kl. 1\, 2\, 3\, 4 (Kl. 4 zuerst!)
DESCRIPTION:
URL:http://www.kgs-beeckstrasse.de/events/zahnprophylaxe-kl-1-2-3-4-kl-4-zuerst/
END:VEVENT
BEGIN:VEVENT
DTSTART;TZID=Europe/Berlin:20240905T100000
DTEND;TZID=Europe/Berlin:20240905T130000
DTSTAMP:20260421T025246
CREATED:20240821T085922Z
LAST-MODIFIED:20240821T085922Z
UID:2292-1725530400-1725541200@www.kgs-beeckstrasse.de
SUMMARY:Ausstellung Natur–Kunst–Projekt (Anna–Straße)
DESCRIPTION:
URL:http://www.kgs-beeckstrasse.de/events/ausstellung-natur-kunst-projekt-anna-strasse/
END:VEVENT
BEGIN:VEVENT
DTSTART;VALUE=DATE:20240916
DTEND;VALUE=DATE:20240921
DTSTAMP:20260421T025246
CREATED:20240821T090345Z
LAST-MODIFIED:20240915T112658Z
UID:2294-1726444800-1726876799@www.kgs-beeckstrasse.de
SUMMARY:Schulschwimmwoche 2024 (für Kl. 3) 1. + 2. Stunde
DESCRIPTION:
URL:http://www.kgs-beeckstrasse.de/events/schulschwimmwoche-2024-fuer-kl-1-2-stunde/
END:VEVENT
BEGIN:VEVENT
DTSTART;TZID=Europe/Berlin:20240925T160000
DTEND;TZID=Europe/Berlin:20240925T180000
DTSTAMP:20260421T025246
CREATED:20240821T090504Z
LAST-MODIFIED:20240821T090504Z
UID:2296-1727280000-1727287200@www.kgs-beeckstrasse.de
SUMMARY:Schulpflegschaft
DESCRIPTION:
URL:http://www.kgs-beeckstrasse.de/events/schulpflegschaft-3/
END:VEVENT
BEGIN:VEVENT
DTSTART;VALUE=DATE:20240926
DTEND;VALUE=DATE:20240927
DTSTAMP:20260421T025246
CREATED:20240821T090808Z
LAST-MODIFIED:20240821T090819Z
UID:2298-1727308800-1727395199@www.kgs-beeckstrasse.de
SUMMARY:Vorlesen mit Viertklässlern 3. + 4. Stunde
DESCRIPTION:
URL:http://www.kgs-beeckstrasse.de/events/vorlesen-mit-viertklaesslern-3-4-stunde/
END:VEVENT
BEGIN:VEVENT
DTSTART;VALUE=DATE:20240927
DTEND;VALUE=DATE:20240928
DTSTAMP:20260421T025246
CREATED:20240821T090918Z
LAST-MODIFIED:20240821T090918Z
UID:2300-1727395200-1727481599@www.kgs-beeckstrasse.de
SUMMARY:Zahnärztliche Reihenuntersuchung\, Kl. 1 bis 4
DESCRIPTION:
URL:http://www.kgs-beeckstrasse.de/events/zahnaerztliche-reihenuntersuchung-kl-1-bis-4/
END:VEVENT
BEGIN:VEVENT
DTSTART;VALUE=DATE:20240927
DTEND;VALUE=DATE:20240928
DTSTAMP:20260421T025246
CREATED:20240821T091009Z
LAST-MODIFIED:20240821T091009Z
UID:2302-1727395200-1727481599@www.kgs-beeckstrasse.de
SUMMARY:Keine OGS!
DESCRIPTION:
URL:http://www.kgs-beeckstrasse.de/events/keine-ogs/
END:VEVENT
END:VCALENDAR