BEGIN:VCALENDAR
VERSION:2.0
PRODID:-//KGS Beeckstraße - ECPv6.15.20//NONSGML v1.0//EN
CALSCALE:GREGORIAN
METHOD:PUBLISH
X-WR-CALNAME:KGS Beeckstraße
X-ORIGINAL-URL:http://www.kgs-beeckstrasse.de
X-WR-CALDESC:Veranstaltungen für KGS Beeckstraße
REFRESH-INTERVAL;VALUE=DURATION:PT1H
X-Robots-Tag:noindex
X-PUBLISHED-TTL:PT1H
BEGIN:VTIMEZONE
TZID:Europe/Berlin
BEGIN:DAYLIGHT
TZOFFSETFROM:+0100
TZOFFSETTO:+0200
TZNAME:CEST
DTSTART:20230326T010000
END:DAYLIGHT
BEGIN:STANDARD
TZOFFSETFROM:+0200
TZOFFSETTO:+0100
TZNAME:CET
DTSTART:20231029T010000
END:STANDARD
BEGIN:DAYLIGHT
TZOFFSETFROM:+0100
TZOFFSETTO:+0200
TZNAME:CEST
DTSTART:20240331T010000
END:DAYLIGHT
BEGIN:STANDARD
TZOFFSETFROM:+0200
TZOFFSETTO:+0100
TZNAME:CET
DTSTART:20241027T010000
END:STANDARD
BEGIN:DAYLIGHT
TZOFFSETFROM:+0100
TZOFFSETTO:+0200
TZNAME:CEST
DTSTART:20250330T010000
END:DAYLIGHT
BEGIN:STANDARD
TZOFFSETFROM:+0200
TZOFFSETTO:+0100
TZNAME:CET
DTSTART:20251026T010000
END:STANDARD
END:VTIMEZONE
BEGIN:VEVENT
DTSTART;VALUE=DATE:20240708
DTEND;VALUE=DATE:20240821
DTSTAMP:20260421T052335
CREATED:20230912T100106Z
LAST-MODIFIED:20230912T100106Z
UID:1754-1720396800-1724198399@www.kgs-beeckstrasse.de
SUMMARY:Sommerferien
DESCRIPTION:
URL:http://www.kgs-beeckstrasse.de/events/sommerferien/
END:VEVENT
BEGIN:VEVENT
DTSTART;TZID=Europe/Berlin:20240819T090000
DTEND;TZID=Europe/Berlin:20240819T130000
DTSTAMP:20260421T052335
CREATED:20240821T084410Z
LAST-MODIFIED:20240821T084410Z
UID:2280-1724058000-1724072400@www.kgs-beeckstrasse.de
SUMMARY:1. Konferenz
DESCRIPTION:
URL:http://www.kgs-beeckstrasse.de/events/1-konferenz/
END:VEVENT
BEGIN:VEVENT
DTSTART;TZID=Europe/Berlin:20240822T100000
DTEND;TZID=Europe/Berlin:20240822T150000
DTSTAMP:20260421T052335
CREATED:20240821T084357Z
LAST-MODIFIED:20240821T084357Z
UID:2282-1724320800-1724338800@www.kgs-beeckstrasse.de
SUMMARY:Einschulung
DESCRIPTION:
URL:http://www.kgs-beeckstrasse.de/events/einschulung-2/
END:VEVENT
BEGIN:VEVENT
DTSTART;TZID=Europe/Berlin:20240826T101500
DTEND;TZID=Europe/Berlin:20240826T111500
DTSTAMP:20260421T052335
CREATED:20240821T085025Z
LAST-MODIFIED:20240821T085025Z
UID:2284-1724667300-1724670900@www.kgs-beeckstrasse.de
SUMMARY:Einschulungsgottesdienst (nur für Kl. 1\, KR-Kinder Kl. 2 - 4)
DESCRIPTION:
URL:http://www.kgs-beeckstrasse.de/events/einschulungsgottesdienst-nur-fuer-kl-1-kr-kinder-kl-2-4/
END:VEVENT
BEGIN:VEVENT
DTSTART;TZID=Europe/Berlin:20240827T100000
DTEND;TZID=Europe/Berlin:20240827T130000
DTSTAMP:20260421T052335
CREATED:20240821T085349Z
LAST-MODIFIED:20240821T085349Z
UID:2286-1724752800-1724763600@www.kgs-beeckstrasse.de
SUMMARY:Ausstellung Natur-Kunst-Projekt (MLH\, Elterncafé) für Kl. 2\, 3\, 4
DESCRIPTION:
URL:http://www.kgs-beeckstrasse.de/events/ausstellung-natur-kunst-projekt-mlh-elterncafe-fuer-kl-2-3-4/
END:VEVENT
END:VCALENDAR