BEGIN:VCALENDAR
VERSION:2.0
PRODID:-//KGS Beeckstraße - ECPv6.15.20//NONSGML v1.0//EN
CALSCALE:GREGORIAN
METHOD:PUBLISH
X-WR-CALNAME:KGS Beeckstraße
X-ORIGINAL-URL:http://www.kgs-beeckstrasse.de
X-WR-CALDESC:Veranstaltungen für KGS Beeckstraße
REFRESH-INTERVAL;VALUE=DURATION:PT1H
X-Robots-Tag:noindex
X-PUBLISHED-TTL:PT1H
BEGIN:VTIMEZONE
TZID:Europe/Berlin
BEGIN:DAYLIGHT
TZOFFSETFROM:+0100
TZOFFSETTO:+0200
TZNAME:CEST
DTSTART:20230326T010000
END:DAYLIGHT
BEGIN:STANDARD
TZOFFSETFROM:+0200
TZOFFSETTO:+0100
TZNAME:CET
DTSTART:20231029T010000
END:STANDARD
BEGIN:DAYLIGHT
TZOFFSETFROM:+0100
TZOFFSETTO:+0200
TZNAME:CEST
DTSTART:20240331T010000
END:DAYLIGHT
BEGIN:STANDARD
TZOFFSETFROM:+0200
TZOFFSETTO:+0100
TZNAME:CET
DTSTART:20241027T010000
END:STANDARD
BEGIN:DAYLIGHT
TZOFFSETFROM:+0100
TZOFFSETTO:+0200
TZNAME:CEST
DTSTART:20250330T010000
END:DAYLIGHT
BEGIN:STANDARD
TZOFFSETFROM:+0200
TZOFFSETTO:+0100
TZNAME:CET
DTSTART:20251026T010000
END:STANDARD
END:VTIMEZONE
BEGIN:VEVENT
DTSTART;VALUE=DATE:20240422
DTEND;VALUE=DATE:20240504
DTSTAMP:20260421T091659
CREATED:20230828T103054Z
LAST-MODIFIED:20230828T103054Z
UID:1682-1713744000-1714780799@www.kgs-beeckstrasse.de
SUMMARY:Elternsprechwochen Klassen 1\, 2\, 3
DESCRIPTION:
URL:http://www.kgs-beeckstrasse.de/events/elternsprechwochen-klassen-1-2-3/
END:VEVENT
BEGIN:VEVENT
DTSTART;VALUE=DATE:20240423
DTEND;VALUE=DATE:20240515
DTSTAMP:20260421T091659
CREATED:20230828T103230Z
LAST-MODIFIED:20230828T103230Z
UID:1684-1713830400-1715731199@www.kgs-beeckstrasse.de
SUMMARY:VERA Klasse 3
DESCRIPTION:
URL:http://www.kgs-beeckstrasse.de/events/vera-klasse-3/
END:VEVENT
BEGIN:VEVENT
DTSTART;VALUE=DATE:20240501
DTEND;VALUE=DATE:20240502
DTSTAMP:20260421T091659
CREATED:20230828T103349Z
LAST-MODIFIED:20230828T103453Z
UID:1686-1714521600-1714607999@www.kgs-beeckstrasse.de
SUMMARY:1. Mai (schulfrei)
DESCRIPTION:
URL:http://www.kgs-beeckstrasse.de/events/feiertag-schulfrei/
END:VEVENT
BEGIN:VEVENT
DTSTART;VALUE=DATE:20240509
DTEND;VALUE=DATE:20240510
DTSTAMP:20260421T091659
CREATED:20240505T092916Z
LAST-MODIFIED:20240505T092916Z
UID:2077-1715212800-1715299199@www.kgs-beeckstrasse.de
SUMMARY:Christi Himmelfahrt (schulfrei)
DESCRIPTION:
URL:http://www.kgs-beeckstrasse.de/events/christi-himmelfahrt-schulfrei-2/
END:VEVENT
BEGIN:VEVENT
DTSTART;VALUE=DATE:20240510
DTEND;VALUE=DATE:20240511
DTSTAMP:20260421T091659
CREATED:20240505T093029Z
LAST-MODIFIED:20240505T093034Z
UID:2079-1715299200-1715385599@www.kgs-beeckstrasse.de
SUMMARY:Beweglicher Feiertag (schulfrei)
DESCRIPTION:
URL:http://www.kgs-beeckstrasse.de/events/beweglicher-feiertag-schulfrei/
END:VEVENT
BEGIN:VEVENT
DTSTART;VALUE=DATE:20240513
DTEND;VALUE=DATE:20240518
DTSTAMP:20260421T091659
CREATED:20230828T103807Z
LAST-MODIFIED:20230828T103807Z
UID:1692-1715558400-1715990399@www.kgs-beeckstrasse.de
SUMMARY:Fahrradprüfung Klasse 4
DESCRIPTION:
URL:http://www.kgs-beeckstrasse.de/events/fahrradpruefung-klasse-4/
END:VEVENT
BEGIN:VEVENT
DTSTART;VALUE=DATE:20240515
DTEND;VALUE=DATE:20240516
DTSTAMP:20260421T091659
CREATED:20230828T103854Z
LAST-MODIFIED:20230828T103854Z
UID:1694-1715731200-1715817599@www.kgs-beeckstrasse.de
SUMMARY:Schulpflegschaft
DESCRIPTION:
URL:http://www.kgs-beeckstrasse.de/events/schulpflegschaft-2/
END:VEVENT
BEGIN:VEVENT
DTSTART;VALUE=DATE:20240520
DTEND;VALUE=DATE:20240522
DTSTAMP:20260421T091659
CREATED:20230828T104639Z
LAST-MODIFIED:20230828T104639Z
UID:1696-1716163200-1716335999@www.kgs-beeckstrasse.de
SUMMARY:Pfingstmontag und -dienstag (schulfrei)
DESCRIPTION:
URL:http://www.kgs-beeckstrasse.de/events/pfingstmontag-und-dienstag-schulfrei/
END:VEVENT
BEGIN:VEVENT
DTSTART;VALUE=DATE:20240528
DTEND;VALUE=DATE:20240529
DTSTAMP:20260421T091659
CREATED:20230828T104732Z
LAST-MODIFIED:20230828T104732Z
UID:1698-1716854400-1716940799@www.kgs-beeckstrasse.de
SUMMARY:Schulkonferenz
DESCRIPTION:
URL:http://www.kgs-beeckstrasse.de/events/schulkonferenz-2/
END:VEVENT
BEGIN:VEVENT
DTSTART;VALUE=DATE:20240530
DTEND;VALUE=DATE:20240531
DTSTAMP:20260421T091659
CREATED:20230828T104848Z
LAST-MODIFIED:20230828T104848Z
UID:1700-1717027200-1717113599@www.kgs-beeckstrasse.de
SUMMARY:Fronleichnam (schulfrei)
DESCRIPTION:
URL:http://www.kgs-beeckstrasse.de/events/fronleichnam-schulfrei/
END:VEVENT
BEGIN:VEVENT
DTSTART;VALUE=DATE:20240531
DTEND;VALUE=DATE:20240601
DTSTAMP:20260421T091659
CREATED:20240505T093139Z
LAST-MODIFIED:20240505T093200Z
UID:2081-1717113600-1717199999@www.kgs-beeckstrasse.de
SUMMARY:Beweglicher Feiertag (schulfrei)
DESCRIPTION:
URL:http://www.kgs-beeckstrasse.de/events/beweglicher-feiertag-schulfrei-2/
END:VEVENT
END:VCALENDAR