BEGIN:VCALENDAR
VERSION:2.0
PRODID:-//KGS Beeckstraße - ECPv6.15.20//NONSGML v1.0//EN
CALSCALE:GREGORIAN
METHOD:PUBLISH
X-ORIGINAL-URL:http://www.kgs-beeckstrasse.de
X-WR-CALDESC:Veranstaltungen für KGS Beeckstraße
REFRESH-INTERVAL;VALUE=DURATION:PT1H
X-Robots-Tag:noindex
X-PUBLISHED-TTL:PT1H
BEGIN:VTIMEZONE
TZID:Europe/Berlin
BEGIN:DAYLIGHT
TZOFFSETFROM:+0100
TZOFFSETTO:+0200
TZNAME:CEST
DTSTART:20220327T010000
END:DAYLIGHT
BEGIN:STANDARD
TZOFFSETFROM:+0200
TZOFFSETTO:+0100
TZNAME:CET
DTSTART:20221030T010000
END:STANDARD
BEGIN:DAYLIGHT
TZOFFSETFROM:+0100
TZOFFSETTO:+0200
TZNAME:CEST
DTSTART:20230326T010000
END:DAYLIGHT
BEGIN:STANDARD
TZOFFSETFROM:+0200
TZOFFSETTO:+0100
TZNAME:CET
DTSTART:20231029T010000
END:STANDARD
BEGIN:DAYLIGHT
TZOFFSETFROM:+0100
TZOFFSETTO:+0200
TZNAME:CEST
DTSTART:20240331T010000
END:DAYLIGHT
BEGIN:STANDARD
TZOFFSETFROM:+0200
TZOFFSETTO:+0100
TZNAME:CET
DTSTART:20241027T010000
END:STANDARD
END:VTIMEZONE
BEGIN:VEVENT
DTSTART;VALUE=DATE:20230814
DTEND;VALUE=DATE:20230902
DTSTAMP:20260425T132733
CREATED:20230816T160348Z
LAST-MODIFIED:20230816T160348Z
UID:1555-1691971200-1693612799@www.kgs-beeckstrasse.de
SUMMARY:Klassenpflegschaft alle Klassen
DESCRIPTION:2./3. Schulwoche
URL:http://www.kgs-beeckstrasse.de/events/klassenpflegschaft-alle-klassen/
END:VEVENT
BEGIN:VEVENT
DTSTART;TZID=Europe/Berlin:20230904T160000
DTEND;TZID=Europe/Berlin:20230904T160000
DTSTAMP:20260425T132733
CREATED:20230816T160015Z
LAST-MODIFIED:20230816T160015Z
UID:1557-1693843200-1693843200@www.kgs-beeckstrasse.de
SUMMARY:Schulpflegschaft
DESCRIPTION:
URL:http://www.kgs-beeckstrasse.de/events/schulpflegschaft/
END:VEVENT
BEGIN:VEVENT
DTSTART;TZID=Europe/Berlin:20230919T160000
DTEND;TZID=Europe/Berlin:20230919T160000
DTSTAMP:20260425T132733
CREATED:20230816T074214Z
LAST-MODIFIED:20230816T074214Z
UID:1559-1695139200-1695139200@www.kgs-beeckstrasse.de
SUMMARY:Schulkonferenz
DESCRIPTION:
URL:http://www.kgs-beeckstrasse.de/events/schulkonferenz/
END:VEVENT
BEGIN:VEVENT
DTSTART;VALUE=DATE:20230921
DTEND;VALUE=DATE:20230922
DTSTAMP:20260425T132733
CREATED:20230816T155956Z
LAST-MODIFIED:20230816T155956Z
UID:1561-1695254400-1695340799@www.kgs-beeckstrasse.de
SUMMARY:Wald-Wandertag
DESCRIPTION:
URL:http://www.kgs-beeckstrasse.de/events/wald-wandertag/
END:VEVENT
BEGIN:VEVENT
DTSTART;VALUE=DATE:20230928
DTEND;VALUE=DATE:20230929
DTSTAMP:20260425T132733
CREATED:20230816T155943Z
LAST-MODIFIED:20230816T155943Z
UID:1563-1695859200-1695945599@www.kgs-beeckstrasse.de
SUMMARY:Tag der Offenen Tür
DESCRIPTION:
URL:http://www.kgs-beeckstrasse.de/events/tag-der-offenen-tuer/
END:VEVENT
END:VCALENDAR