BEGIN:VCALENDAR
VERSION:2.0
PRODID:-//KGS Beeckstraße - ECPv6.15.20//NONSGML v1.0//EN
CALSCALE:GREGORIAN
METHOD:PUBLISH
X-WR-CALNAME:KGS Beeckstraße
X-ORIGINAL-URL:http://www.kgs-beeckstrasse.de
X-WR-CALDESC:Veranstaltungen für KGS Beeckstraße
REFRESH-INTERVAL;VALUE=DURATION:PT1H
X-Robots-Tag:noindex
X-PUBLISHED-TTL:PT1H
BEGIN:VTIMEZONE
TZID:Europe/Berlin
BEGIN:DAYLIGHT
TZOFFSETFROM:+0100
TZOFFSETTO:+0200
TZNAME:CEST
DTSTART:20250330T010000
END:DAYLIGHT
BEGIN:STANDARD
TZOFFSETFROM:+0200
TZOFFSETTO:+0100
TZNAME:CET
DTSTART:20251026T010000
END:STANDARD
BEGIN:DAYLIGHT
TZOFFSETFROM:+0100
TZOFFSETTO:+0200
TZNAME:CEST
DTSTART:20260329T010000
END:DAYLIGHT
BEGIN:STANDARD
TZOFFSETFROM:+0200
TZOFFSETTO:+0100
TZNAME:CET
DTSTART:20261025T010000
END:STANDARD
BEGIN:DAYLIGHT
TZOFFSETFROM:+0100
TZOFFSETTO:+0200
TZNAME:CEST
DTSTART:20270328T010000
END:DAYLIGHT
BEGIN:STANDARD
TZOFFSETFROM:+0200
TZOFFSETTO:+0100
TZNAME:CET
DTSTART:20271031T010000
END:STANDARD
END:VTIMEZONE
BEGIN:VEVENT
DTSTART;VALUE=DATE:20260622
DTEND;VALUE=DATE:20260623
DTSTAMP:20260419T171130
CREATED:20250822T115227Z
LAST-MODIFIED:20250822T115227Z
UID:2924-1782086400-1782172799@www.kgs-beeckstrasse.de
SUMMARY:"Bubenheimer Spielelang"\, Ausflug alle Klassen
DESCRIPTION:
URL:http://www.kgs-beeckstrasse.de/events/bubenheimer-spielelang-ausflug-alle-klassen/
END:VEVENT
BEGIN:VEVENT
DTSTART;VALUE=DATE:20260629
DTEND;VALUE=DATE:20260630
DTSTAMP:20260419T171130
CREATED:20250822T115253Z
LAST-MODIFIED:20250822T115253Z
UID:2926-1782691200-1782777599@www.kgs-beeckstrasse.de
SUMMARY:Zeugniskonferenz
DESCRIPTION:
URL:http://www.kgs-beeckstrasse.de/events/zeugniskonferenz-3/
END:VEVENT
BEGIN:VEVENT
DTSTART;TZID=Europe/Berlin:20260630T160000
DTEND;TZID=Europe/Berlin:20260630T170000
DTSTAMP:20260419T171130
CREATED:20250822T115350Z
LAST-MODIFIED:20250822T115350Z
UID:2928-1782835200-1782838800@www.kgs-beeckstrasse.de
SUMMARY:Elterninfonachmittag Schulneulinge
DESCRIPTION:
URL:http://www.kgs-beeckstrasse.de/events/elterninfonachmittag-schulneulinge-2/
END:VEVENT
BEGIN:VEVENT
DTSTART;VALUE=DATE:20260701
DTEND;VALUE=DATE:20260704
DTSTAMP:20260419T171130
CREATED:20250822T115430Z
LAST-MODIFIED:20250822T115430Z
UID:2930-1782864000-1783123199@www.kgs-beeckstrasse.de
SUMMARY:Klassenfahrt Kl. 4
DESCRIPTION:
URL:http://www.kgs-beeckstrasse.de/events/klassenfahrt-kl-4-2/
END:VEVENT
BEGIN:VEVENT
DTSTART;VALUE=DATE:20260710
DTEND;VALUE=DATE:20260711
DTSTAMP:20260419T171130
CREATED:20250822T115522Z
LAST-MODIFIED:20250822T115522Z
UID:2932-1783641600-1783727999@www.kgs-beeckstrasse.de
SUMMARY:Friedenslauf Kl. 1\, 2\, 3\, 4
DESCRIPTION:
URL:http://www.kgs-beeckstrasse.de/events/friedenslauf-kl-1-2-3-4-2/
END:VEVENT
BEGIN:VEVENT
DTSTART;VALUE=DATE:20260715
DTEND;VALUE=DATE:20260716
DTSTAMP:20260419T171130
CREATED:20250822T115608Z
LAST-MODIFIED:20250822T115608Z
UID:2934-1784073600-1784159999@www.kgs-beeckstrasse.de
SUMMARY:Zeugnisausgabe Kl. 1\, 2\, 3 (Kopie)
DESCRIPTION:
URL:http://www.kgs-beeckstrasse.de/events/zeugnisausgabe-kl-1-2-3-kopie-2/
END:VEVENT
BEGIN:VEVENT
DTSTART;TZID=Europe/Berlin:20260716T101500
DTEND;TZID=Europe/Berlin:20260716T111500
DTSTAMP:20260419T171130
CREATED:20250822T115707Z
LAST-MODIFIED:20250822T115707Z
UID:2936-1784196900-1784200500@www.kgs-beeckstrasse.de
SUMMARY:Entlassfeier Klasse 4 (alle Klassen)
DESCRIPTION:
URL:http://www.kgs-beeckstrasse.de/events/entlassfeier-klasse-4-alle-klassen/
END:VEVENT
BEGIN:VEVENT
DTSTART;VALUE=DATE:20260717
DTEND;VALUE=DATE:20260718
DTSTAMP:20260419T171130
CREATED:20250822T115751Z
LAST-MODIFIED:20250822T115751Z
UID:2938-1784246400-1784332799@www.kgs-beeckstrasse.de
SUMMARY:Zeugnisausgabe Kl. 1\, 2\, 3 (Original)
DESCRIPTION:
URL:http://www.kgs-beeckstrasse.de/events/zeugnisausgabe-kl-1-2-3-original-2/
END:VEVENT
BEGIN:VEVENT
DTSTART;VALUE=DATE:20260717
DTEND;VALUE=DATE:20260718
DTSTAMP:20260419T171130
CREATED:20250822T115826Z
LAST-MODIFIED:20250822T115826Z
UID:2940-1784246400-1784332799@www.kgs-beeckstrasse.de
SUMMARY:Zeugnisausgabe Kl. 4
DESCRIPTION:
URL:http://www.kgs-beeckstrasse.de/events/zeugnisausgabe-kl-4-3/
END:VEVENT
BEGIN:VEVENT
DTSTART;VALUE=DATE:20260720
DTEND;VALUE=DATE:20260902
DTSTAMP:20260419T171130
CREATED:20250822T115906Z
LAST-MODIFIED:20250822T115906Z
UID:2942-1784505600-1788307199@www.kgs-beeckstrasse.de
SUMMARY:Sommerferien
DESCRIPTION:
URL:http://www.kgs-beeckstrasse.de/events/sommerferien-3/
END:VEVENT
END:VCALENDAR