BEGIN:VCALENDAR
VERSION:2.0
PRODID:-//KGS Beeckstraße - ECPv6.15.20//NONSGML v1.0//EN
CALSCALE:GREGORIAN
METHOD:PUBLISH
X-ORIGINAL-URL:http://www.kgs-beeckstrasse.de
X-WR-CALDESC:Veranstaltungen für KGS Beeckstraße
REFRESH-INTERVAL;VALUE=DURATION:PT1H
X-Robots-Tag:noindex
X-PUBLISHED-TTL:PT1H
BEGIN:VTIMEZONE
TZID:Europe/Berlin
BEGIN:DAYLIGHT
TZOFFSETFROM:+0100
TZOFFSETTO:+0200
TZNAME:CEST
DTSTART:20250330T010000
END:DAYLIGHT
BEGIN:STANDARD
TZOFFSETFROM:+0200
TZOFFSETTO:+0100
TZNAME:CET
DTSTART:20251026T010000
END:STANDARD
BEGIN:DAYLIGHT
TZOFFSETFROM:+0100
TZOFFSETTO:+0200
TZNAME:CEST
DTSTART:20260329T010000
END:DAYLIGHT
BEGIN:STANDARD
TZOFFSETFROM:+0200
TZOFFSETTO:+0100
TZNAME:CET
DTSTART:20261025T010000
END:STANDARD
BEGIN:DAYLIGHT
TZOFFSETFROM:+0100
TZOFFSETTO:+0200
TZNAME:CEST
DTSTART:20270328T010000
END:DAYLIGHT
BEGIN:STANDARD
TZOFFSETFROM:+0200
TZOFFSETTO:+0100
TZNAME:CET
DTSTART:20271031T010000
END:STANDARD
END:VTIMEZONE
BEGIN:VEVENT
DTSTART;VALUE=DATE:20260413
DTEND;VALUE=DATE:20260501
DTSTAMP:20260419T171031
CREATED:20250822T114327Z
LAST-MODIFIED:20250822T114335Z
UID:2899-1776038400-1777593599@www.kgs-beeckstrasse.de
SUMMARY:Elternsprechtagswochen\, Kl. 1-3
DESCRIPTION:
URL:http://www.kgs-beeckstrasse.de/events/elternsprechtagwochen-kl-1-3-2/
END:VEVENT
BEGIN:VEVENT
DTSTART;VALUE=DATE:20260422
DTEND;VALUE=DATE:20260509
DTSTAMP:20260419T171031
CREATED:20250822T114412Z
LAST-MODIFIED:20250822T114412Z
UID:2902-1776816000-1778284799@www.kgs-beeckstrasse.de
SUMMARY:VERA Kl. 3
DESCRIPTION:
URL:http://www.kgs-beeckstrasse.de/events/vera-kl-3-3/
END:VEVENT
BEGIN:VEVENT
DTSTART;VALUE=DATE:20260430
DTEND;VALUE=DATE:20260501
DTSTAMP:20260419T171031
CREATED:20250822T114503Z
LAST-MODIFIED:20250822T114503Z
UID:2904-1777507200-1777593599@www.kgs-beeckstrasse.de
SUMMARY:Wald-Wandertag (alle Klassen)
DESCRIPTION:
URL:http://www.kgs-beeckstrasse.de/events/wald-wandertag-alle-klassen/
END:VEVENT
BEGIN:VEVENT
DTSTART;VALUE=DATE:20260501
DTEND;VALUE=DATE:20260502
DTSTAMP:20260419T171031
CREATED:20250822T114535Z
LAST-MODIFIED:20250824T101240Z
UID:2906-1777593600-1777679999@www.kgs-beeckstrasse.de
SUMMARY:frei: 1. Mai
DESCRIPTION:
URL:http://www.kgs-beeckstrasse.de/events/frei-1-mai-2/
END:VEVENT
BEGIN:VEVENT
DTSTART;TZID=Europe/Berlin:20260512T150000
DTEND;TZID=Europe/Berlin:20260512T160000
DTSTAMP:20260419T171031
CREATED:20250822T114623Z
LAST-MODIFIED:20250822T114623Z
UID:2908-1778598000-1778601600@www.kgs-beeckstrasse.de
SUMMARY:Schulpflegschaft
DESCRIPTION:
URL:http://www.kgs-beeckstrasse.de/events/schulpflegschaft-6/
END:VEVENT
BEGIN:VEVENT
DTSTART;VALUE=DATE:20260514
DTEND;VALUE=DATE:20260515
DTSTAMP:20260419T171032
CREATED:20250822T114713Z
LAST-MODIFIED:20250822T114713Z
UID:2910-1778716800-1778803199@www.kgs-beeckstrasse.de
SUMMARY:frei: Christi Himmelfahrt
DESCRIPTION:
URL:http://www.kgs-beeckstrasse.de/events/frei-christi-himmelfahrt/
END:VEVENT
BEGIN:VEVENT
DTSTART;VALUE=DATE:20260515
DTEND;VALUE=DATE:20260516
DTSTAMP:20260419T171032
CREATED:20250822T114746Z
LAST-MODIFIED:20250822T114746Z
UID:2912-1778803200-1778889599@www.kgs-beeckstrasse.de
SUMMARY:frei: bewegl. Ferientag
DESCRIPTION:
URL:http://www.kgs-beeckstrasse.de/events/frei-bewegl-ferientag-5/
END:VEVENT
BEGIN:VEVENT
DTSTART;VALUE=DATE:20260525
DTEND;VALUE=DATE:20260527
DTSTAMP:20260419T171032
CREATED:20250822T114845Z
LAST-MODIFIED:20250822T114845Z
UID:2914-1779667200-1779839999@www.kgs-beeckstrasse.de
SUMMARY:frei: Pfingstmontag u. -dienstag
DESCRIPTION:
URL:http://www.kgs-beeckstrasse.de/events/frei-pfingstmontag-u-dienstag/
END:VEVENT
BEGIN:VEVENT
DTSTART;VALUE=DATE:20260527
DTEND;VALUE=DATE:20260528
DTSTAMP:20260419T171032
CREATED:20250822T114917Z
LAST-MODIFIED:20250822T114917Z
UID:2916-1779840000-1779926399@www.kgs-beeckstrasse.de
SUMMARY:Opferfest
DESCRIPTION:
URL:http://www.kgs-beeckstrasse.de/events/opferfest/
END:VEVENT
BEGIN:VEVENT
DTSTART;TZID=Europe/Berlin:20260528T150000
DTEND;TZID=Europe/Berlin:20260528T170000
DTSTAMP:20260419T171032
CREATED:20250822T114958Z
LAST-MODIFIED:20250822T114958Z
UID:2918-1779980400-1779987600@www.kgs-beeckstrasse.de
SUMMARY:Schulkonferenz
DESCRIPTION:
URL:http://www.kgs-beeckstrasse.de/events/schulkonferenz-6/
END:VEVENT
BEGIN:VEVENT
DTSTART;VALUE=DATE:20260604
DTEND;VALUE=DATE:20260605
DTSTAMP:20260419T171032
CREATED:20250822T115040Z
LAST-MODIFIED:20250822T115040Z
UID:2920-1780531200-1780617599@www.kgs-beeckstrasse.de
SUMMARY:frei: Fronleichnam
DESCRIPTION:
URL:http://www.kgs-beeckstrasse.de/events/frei-fronleichnam-2/
END:VEVENT
BEGIN:VEVENT
DTSTART;VALUE=DATE:20260605
DTEND;VALUE=DATE:20260606
DTSTAMP:20260419T171032
CREATED:20250822T115117Z
LAST-MODIFIED:20250822T115117Z
UID:2922-1780617600-1780703999@www.kgs-beeckstrasse.de
SUMMARY:frei: bewegl. Ferientag
DESCRIPTION:
URL:http://www.kgs-beeckstrasse.de/events/frei-bewegl-ferientag-6/
END:VEVENT
BEGIN:VEVENT
DTSTART;VALUE=DATE:20260622
DTEND;VALUE=DATE:20260623
DTSTAMP:20260419T171032
CREATED:20250822T115227Z
LAST-MODIFIED:20250822T115227Z
UID:2924-1782086400-1782172799@www.kgs-beeckstrasse.de
SUMMARY:"Bubenheimer Spielelang"\, Ausflug alle Klassen
DESCRIPTION:
URL:http://www.kgs-beeckstrasse.de/events/bubenheimer-spielelang-ausflug-alle-klassen/
END:VEVENT
BEGIN:VEVENT
DTSTART;VALUE=DATE:20260629
DTEND;VALUE=DATE:20260630
DTSTAMP:20260419T171032
CREATED:20250822T115253Z
LAST-MODIFIED:20250822T115253Z
UID:2926-1782691200-1782777599@www.kgs-beeckstrasse.de
SUMMARY:Zeugniskonferenz
DESCRIPTION:
URL:http://www.kgs-beeckstrasse.de/events/zeugniskonferenz-3/
END:VEVENT
BEGIN:VEVENT
DTSTART;TZID=Europe/Berlin:20260630T160000
DTEND;TZID=Europe/Berlin:20260630T170000
DTSTAMP:20260419T171032
CREATED:20250822T115350Z
LAST-MODIFIED:20250822T115350Z
UID:2928-1782835200-1782838800@www.kgs-beeckstrasse.de
SUMMARY:Elterninfonachmittag Schulneulinge
DESCRIPTION:
URL:http://www.kgs-beeckstrasse.de/events/elterninfonachmittag-schulneulinge-2/
END:VEVENT
BEGIN:VEVENT
DTSTART;VALUE=DATE:20260701
DTEND;VALUE=DATE:20260704
DTSTAMP:20260419T171032
CREATED:20250822T115430Z
LAST-MODIFIED:20250822T115430Z
UID:2930-1782864000-1783123199@www.kgs-beeckstrasse.de
SUMMARY:Klassenfahrt Kl. 4
DESCRIPTION:
URL:http://www.kgs-beeckstrasse.de/events/klassenfahrt-kl-4-2/
END:VEVENT
BEGIN:VEVENT
DTSTART;VALUE=DATE:20260710
DTEND;VALUE=DATE:20260711
DTSTAMP:20260419T171032
CREATED:20250822T115522Z
LAST-MODIFIED:20250822T115522Z
UID:2932-1783641600-1783727999@www.kgs-beeckstrasse.de
SUMMARY:Friedenslauf Kl. 1\, 2\, 3\, 4
DESCRIPTION:
URL:http://www.kgs-beeckstrasse.de/events/friedenslauf-kl-1-2-3-4-2/
END:VEVENT
BEGIN:VEVENT
DTSTART;VALUE=DATE:20260715
DTEND;VALUE=DATE:20260716
DTSTAMP:20260419T171032
CREATED:20250822T115608Z
LAST-MODIFIED:20250822T115608Z
UID:2934-1784073600-1784159999@www.kgs-beeckstrasse.de
SUMMARY:Zeugnisausgabe Kl. 1\, 2\, 3 (Kopie)
DESCRIPTION:
URL:http://www.kgs-beeckstrasse.de/events/zeugnisausgabe-kl-1-2-3-kopie-2/
END:VEVENT
BEGIN:VEVENT
DTSTART;TZID=Europe/Berlin:20260716T101500
DTEND;TZID=Europe/Berlin:20260716T111500
DTSTAMP:20260419T171032
CREATED:20250822T115707Z
LAST-MODIFIED:20250822T115707Z
UID:2936-1784196900-1784200500@www.kgs-beeckstrasse.de
SUMMARY:Entlassfeier Klasse 4 (alle Klassen)
DESCRIPTION:
URL:http://www.kgs-beeckstrasse.de/events/entlassfeier-klasse-4-alle-klassen/
END:VEVENT
BEGIN:VEVENT
DTSTART;VALUE=DATE:20260717
DTEND;VALUE=DATE:20260718
DTSTAMP:20260419T171032
CREATED:20250822T115751Z
LAST-MODIFIED:20250822T115751Z
UID:2938-1784246400-1784332799@www.kgs-beeckstrasse.de
SUMMARY:Zeugnisausgabe Kl. 1\, 2\, 3 (Original)
DESCRIPTION:
URL:http://www.kgs-beeckstrasse.de/events/zeugnisausgabe-kl-1-2-3-original-2/
END:VEVENT
BEGIN:VEVENT
DTSTART;VALUE=DATE:20260717
DTEND;VALUE=DATE:20260718
DTSTAMP:20260419T171032
CREATED:20250822T115826Z
LAST-MODIFIED:20250822T115826Z
UID:2940-1784246400-1784332799@www.kgs-beeckstrasse.de
SUMMARY:Zeugnisausgabe Kl. 4
DESCRIPTION:
URL:http://www.kgs-beeckstrasse.de/events/zeugnisausgabe-kl-4-3/
END:VEVENT
BEGIN:VEVENT
DTSTART;VALUE=DATE:20260720
DTEND;VALUE=DATE:20260902
DTSTAMP:20260419T171032
CREATED:20250822T115906Z
LAST-MODIFIED:20250822T115906Z
UID:2942-1784505600-1788307199@www.kgs-beeckstrasse.de
SUMMARY:Sommerferien
DESCRIPTION:
URL:http://www.kgs-beeckstrasse.de/events/sommerferien-3/
END:VEVENT
END:VCALENDAR