BEGIN:VCALENDAR
VERSION:2.0
PRODID:-//KGS Beeckstraße - ECPv6.15.20//NONSGML v1.0//EN
CALSCALE:GREGORIAN
METHOD:PUBLISH
X-WR-CALNAME:KGS Beeckstraße
X-ORIGINAL-URL:http://www.kgs-beeckstrasse.de
X-WR-CALDESC:Veranstaltungen für KGS Beeckstraße
REFRESH-INTERVAL;VALUE=DURATION:PT1H
X-Robots-Tag:noindex
X-PUBLISHED-TTL:PT1H
BEGIN:VTIMEZONE
TZID:Europe/Berlin
BEGIN:DAYLIGHT
TZOFFSETFROM:+0100
TZOFFSETTO:+0200
TZNAME:CEST
DTSTART:20240331T010000
END:DAYLIGHT
BEGIN:STANDARD
TZOFFSETFROM:+0200
TZOFFSETTO:+0100
TZNAME:CET
DTSTART:20241027T010000
END:STANDARD
BEGIN:DAYLIGHT
TZOFFSETFROM:+0100
TZOFFSETTO:+0200
TZNAME:CEST
DTSTART:20250330T010000
END:DAYLIGHT
BEGIN:STANDARD
TZOFFSETFROM:+0200
TZOFFSETTO:+0100
TZNAME:CET
DTSTART:20251026T010000
END:STANDARD
BEGIN:DAYLIGHT
TZOFFSETFROM:+0100
TZOFFSETTO:+0200
TZNAME:CEST
DTSTART:20260329T010000
END:DAYLIGHT
BEGIN:STANDARD
TZOFFSETFROM:+0200
TZOFFSETTO:+0100
TZNAME:CET
DTSTART:20261025T010000
END:STANDARD
BEGIN:DAYLIGHT
TZOFFSETFROM:+0100
TZOFFSETTO:+0200
TZNAME:CEST
DTSTART:20270328T010000
END:DAYLIGHT
BEGIN:STANDARD
TZOFFSETFROM:+0200
TZOFFSETTO:+0100
TZNAME:CET
DTSTART:20271031T010000
END:STANDARD
END:VTIMEZONE
BEGIN:VEVENT
DTSTART;VALUE=DATE:20260330
DTEND;VALUE=DATE:20260411
DTSTAMP:20260419T171039
CREATED:20250822T114236Z
LAST-MODIFIED:20250822T114236Z
UID:2897-1774828800-1775865599@www.kgs-beeckstrasse.de
SUMMARY:Osterferien
DESCRIPTION:
URL:http://www.kgs-beeckstrasse.de/events/osterferien-3/
END:VEVENT
BEGIN:VEVENT
DTSTART;VALUE=DATE:20260320
DTEND;VALUE=DATE:20260321
DTSTAMP:20260419T171039
CREATED:20250822T114202Z
LAST-MODIFIED:20250822T114202Z
UID:2895-1773964800-1774051199@www.kgs-beeckstrasse.de
SUMMARY:Zuckerfest
DESCRIPTION:
URL:http://www.kgs-beeckstrasse.de/events/zuckerfest-3/
END:VEVENT
BEGIN:VEVENT
DTSTART;VALUE=DATE:20260313
DTEND;VALUE=DATE:20260314
DTSTAMP:20260419T171039
CREATED:20250822T114137Z
LAST-MODIFIED:20250822T114137Z
UID:2893-1773360000-1773446399@www.kgs-beeckstrasse.de
SUMMARY:Zahnprophylaxe Kl. 1\, 2\, 3\, 4
DESCRIPTION:
URL:http://www.kgs-beeckstrasse.de/events/zahnprophylaxe-kl-1-2-3-4-2/
END:VEVENT
BEGIN:VEVENT
DTSTART;VALUE=DATE:20260217
DTEND;VALUE=DATE:20260218
DTSTAMP:20260419T171039
CREATED:20250822T114038Z
LAST-MODIFIED:20250822T114038Z
UID:2891-1771286400-1771372799@www.kgs-beeckstrasse.de
SUMMARY:Pädagogischer Ganztag (mit OGS) Malaika e. V. / im Bildungswerk Aachen (keine OGS/Notbetreuung!)
DESCRIPTION:
URL:http://www.kgs-beeckstrasse.de/events/paedagogischer-ganztag-mit-ogs-malaika-e-v-im-bildungswerk-aachen-keine-ogs-notbetreuung/
END:VEVENT
BEGIN:VEVENT
DTSTART;VALUE=DATE:20260216
DTEND;VALUE=DATE:20260217
DTSTAMP:20260419T171039
CREATED:20250822T113821Z
LAST-MODIFIED:20250822T113821Z
UID:2889-1771200000-1771286399@www.kgs-beeckstrasse.de
SUMMARY:frei: bewegl. Ferientag
DESCRIPTION:
URL:http://www.kgs-beeckstrasse.de/events/frei-bewegl-ferientag-4/
END:VEVENT
BEGIN:VEVENT
DTSTART;TZID=Europe/Berlin:20260212T080000
DTEND;TZID=Europe/Berlin:20260212T130000
DTSTAMP:20260419T171039
CREATED:20250822T113737Z
LAST-MODIFIED:20250822T113737Z
UID:2887-1770883200-1770901200@www.kgs-beeckstrasse.de
SUMMARY:Karneval
DESCRIPTION:
URL:http://www.kgs-beeckstrasse.de/events/karneval-2/
END:VEVENT
BEGIN:VEVENT
DTSTART;VALUE=DATE:20260209
DTEND;VALUE=DATE:20260221
DTSTAMP:20260419T171039
CREATED:20250822T113624Z
LAST-MODIFIED:20250822T113624Z
UID:2885-1770595200-1771631999@www.kgs-beeckstrasse.de
SUMMARY:Klassenpflegschaft Kl. 1-4
DESCRIPTION:
URL:http://www.kgs-beeckstrasse.de/events/klassenpflegschaft-kl-1-4-2/
END:VEVENT
BEGIN:VEVENT
DTSTART;VALUE=DATE:20260206
DTEND;VALUE=DATE:20260207
DTSTAMP:20260419T171039
CREATED:20250822T113529Z
LAST-MODIFIED:20250822T113529Z
UID:2883-1770336000-1770422399@www.kgs-beeckstrasse.de
SUMMARY:Zeugnisausgabe Kl. 3\, 4 Original und Lern- und Förderempfehlungen für Klassen 2\, 3\, 4
DESCRIPTION:
URL:http://www.kgs-beeckstrasse.de/events/zeugnisausgabe-kl-3-4-original-und-lern-und-foerderempfehlungen-fuer-klassen-2-3-4/
END:VEVENT
BEGIN:VEVENT
DTSTART;VALUE=DATE:20260204
DTEND;VALUE=DATE:20260205
DTSTAMP:20260419T171039
CREATED:20250822T113349Z
LAST-MODIFIED:20250822T120012Z
UID:2881-1770163200-1770249599@www.kgs-beeckstrasse.de
SUMMARY:Zeugnisausgabe Kl. 3\, 4 (Kopie)
DESCRIPTION:
URL:http://www.kgs-beeckstrasse.de/events/zeugnisausgabe-kl-3-4/
END:VEVENT
BEGIN:VEVENT
DTSTART;VALUE=DATE:20260126
DTEND;VALUE=DATE:20260127
DTSTAMP:20260419T171039
CREATED:20250822T113304Z
LAST-MODIFIED:20250822T113304Z
UID:2879-1769385600-1769471999@www.kgs-beeckstrasse.de
SUMMARY:Zeugniskonferenz Kl. 3\, 4
DESCRIPTION:
URL:http://www.kgs-beeckstrasse.de/events/zeugniskonferenz-kl-3-4-2/
END:VEVENT
BEGIN:VEVENT
DTSTART;TZID=Europe/Berlin:20260115T101500
DTEND;TZID=Europe/Berlin:20260115T111500
DTSTAMP:20260419T171039
CREATED:20250822T113227Z
LAST-MODIFIED:20250822T113227Z
UID:2877-1768472100-1768475700@www.kgs-beeckstrasse.de
SUMMARY:Vorlesen mit Viertklässlern (4 Kinder aus Klasse 4\, in der GS Malmedyer Straße)
DESCRIPTION:
URL:http://www.kgs-beeckstrasse.de/events/vorlesen-mit-viertklaesslern-4-kinder-aus-klasse-4-in-der-gs-malmedyer-strasse/
END:VEVENT
BEGIN:VEVENT
DTSTART;VALUE=DATE:20260112
DTEND;VALUE=DATE:20260113
DTSTAMP:20260419T171039
CREATED:20260111T164148Z
LAST-MODIFIED:20260111T164200Z
UID:3130-1768176000-1768262399@www.kgs-beeckstrasse.de
SUMMARY:Schulschließung wegen Glatteis am Montag\, 12.01.2026
DESCRIPTION:
URL:http://www.kgs-beeckstrasse.de/events/schulschliessung-wegen-glatteis-am-montag-12-01-2026/
END:VEVENT
BEGIN:VEVENT
DTSTART;VALUE=DATE:20251222
DTEND;VALUE=DATE:20260107
DTSTAMP:20260419T171039
CREATED:20250822T113044Z
LAST-MODIFIED:20250822T113044Z
UID:2875-1766361600-1767743999@www.kgs-beeckstrasse.de
SUMMARY:Weihnachtsferien
DESCRIPTION:
URL:http://www.kgs-beeckstrasse.de/events/weihnachtsferien-3/
END:VEVENT
BEGIN:VEVENT
DTSTART;TZID=Europe/Berlin:20251215T081500
DTEND;TZID=Europe/Berlin:20251215T090000
DTSTAMP:20260419T171039
CREATED:20250822T112952Z
LAST-MODIFIED:20250822T112952Z
UID:2873-1765786500-1765789200@www.kgs-beeckstrasse.de
SUMMARY:Adventssingen (alle Klassen\, mit Eltern)
DESCRIPTION:
URL:http://www.kgs-beeckstrasse.de/events/adventssingen-alle-klassen-mit-eltern/
END:VEVENT
BEGIN:VEVENT
DTSTART;VALUE=DATE:20251208
DTEND;VALUE=DATE:20251209
DTSTAMP:20260419T171039
CREATED:20250822T112836Z
LAST-MODIFIED:20250822T112836Z
UID:2871-1765152000-1765238399@www.kgs-beeckstrasse.de
SUMMARY:Nikolausbesuch
DESCRIPTION:
URL:http://www.kgs-beeckstrasse.de/events/nikolausbesuch-3/
END:VEVENT
BEGIN:VEVENT
DTSTART;VALUE=DATE:20251121
DTEND;VALUE=DATE:20251122
DTSTAMP:20260419T171039
CREATED:20250822T112759Z
LAST-MODIFIED:20250822T112759Z
UID:2869-1763683200-1763769599@www.kgs-beeckstrasse.de
SUMMARY:Vorlesetag in der Stadtbibliothek für alle Klassen
DESCRIPTION:
URL:http://www.kgs-beeckstrasse.de/events/vorlesetag-in-der-stadtbibliothek-fuer-alle-klassen/
END:VEVENT
BEGIN:VEVENT
DTSTART;TZID=Europe/Berlin:20251120T150000
DTEND;TZID=Europe/Berlin:20251120T170000
DTSTAMP:20260419T171039
CREATED:20250822T112703Z
LAST-MODIFIED:20250822T112703Z
UID:2867-1763650800-1763658000@www.kgs-beeckstrasse.de
SUMMARY:Informationsnachmittag Kl. 4
DESCRIPTION:
URL:http://www.kgs-beeckstrasse.de/events/informationsnachmittag-kl-4-2/
END:VEVENT
BEGIN:VEVENT
DTSTART;VALUE=DATE:20251117
DTEND;VALUE=DATE:20251118
DTSTAMP:20260419T171039
CREATED:20250822T112535Z
LAST-MODIFIED:20250822T112612Z
UID:2865-1763337600-1763423999@www.kgs-beeckstrasse.de
SUMMARY:MitarbeiterInnen- Ausflug
DESCRIPTION:
URL:http://www.kgs-beeckstrasse.de/events/mitarbeiterinnen-ausflug-2/
END:VEVENT
BEGIN:VEVENT
DTSTART;TZID=Europe/Berlin:20251111T180000
DTEND;TZID=Europe/Berlin:20251111T190000
DTSTAMP:20260419T171039
CREATED:20250822T112452Z
LAST-MODIFIED:20250822T112452Z
UID:2863-1762884000-1762887600@www.kgs-beeckstrasse.de
SUMMARY:St. Martin
DESCRIPTION:
URL:http://www.kgs-beeckstrasse.de/events/st-martin-3/
END:VEVENT
BEGIN:VEVENT
DTSTART;VALUE=DATE:20251110
DTEND;VALUE=DATE:20251129
DTSTAMP:20260419T171039
CREATED:20250822T112344Z
LAST-MODIFIED:20250822T112344Z
UID:2861-1762732800-1764374399@www.kgs-beeckstrasse.de
SUMMARY:Elternsprechtagwochen/ Beratungsgespräche\, alle Klassen
DESCRIPTION:
URL:http://www.kgs-beeckstrasse.de/events/elternsprechtagwochen-beratungsgespraeche-alle-klassen/
END:VEVENT
BEGIN:VEVENT
DTSTART;TZID=Europe/Berlin:20251103T090000
DTEND;TZID=Europe/Berlin:20251103T160000
DTSTAMP:20260419T171039
CREATED:20250822T112142Z
LAST-MODIFIED:20250822T112142Z
UID:2857-1762160400-1762185600@www.kgs-beeckstrasse.de
SUMMARY:Ganztagskonferenz
DESCRIPTION:
URL:http://www.kgs-beeckstrasse.de/events/ganztagskonferenz-2/
END:VEVENT
BEGIN:VEVENT
DTSTART;VALUE=DATE:20251103
DTEND;VALUE=DATE:20251115
DTSTAMP:20260419T171039
CREATED:20250822T112230Z
LAST-MODIFIED:20250822T112230Z
UID:2859-1762128000-1763164799@www.kgs-beeckstrasse.de
SUMMARY:Anmeldung Neulinge
DESCRIPTION:
URL:http://www.kgs-beeckstrasse.de/events/anmeldung-neulinge-3/
END:VEVENT
BEGIN:VEVENT
DTSTART;VALUE=DATE:20251030
DTEND;VALUE=DATE:20251031
DTSTAMP:20260419T171039
CREATED:20250822T112010Z
LAST-MODIFIED:20250822T112010Z
UID:2853-1761782400-1761868799@www.kgs-beeckstrasse.de
SUMMARY:Radfahrausbildung Klasse 4
DESCRIPTION:
URL:http://www.kgs-beeckstrasse.de/events/radfahrausbildung-klasse-4-3/
END:VEVENT
BEGIN:VEVENT
DTSTART;TZID=Europe/Berlin:20251029T090000
DTEND;TZID=Europe/Berlin:20251029T100000
DTSTAMP:20260419T171039
CREATED:20250822T112103Z
LAST-MODIFIED:20250822T112103Z
UID:2855-1761728400-1761732000@www.kgs-beeckstrasse.de
SUMMARY:Tag der Offenen Tür
DESCRIPTION:
URL:http://www.kgs-beeckstrasse.de/events/tag-der-offenen-tuer-3/
END:VEVENT
BEGIN:VEVENT
DTSTART;VALUE=DATE:20251028
DTEND;VALUE=DATE:20251029
DTSTAMP:20260419T171039
CREATED:20250822T111953Z
LAST-MODIFIED:20250822T111953Z
UID:2851-1761609600-1761695999@www.kgs-beeckstrasse.de
SUMMARY:Radfahrausbildung Klasse 4
DESCRIPTION:
URL:http://www.kgs-beeckstrasse.de/events/radfahrausbildung-klasse-4-2/
END:VEVENT
BEGIN:VEVENT
DTSTART;VALUE=DATE:20251027
DTEND;VALUE=DATE:20251028
DTSTAMP:20260419T171039
CREATED:20250822T111937Z
LAST-MODIFIED:20250822T111937Z
UID:2849-1761523200-1761609599@www.kgs-beeckstrasse.de
SUMMARY:Radfahrausbildung Klasse 4
DESCRIPTION:
URL:http://www.kgs-beeckstrasse.de/events/radfahrausbildung-klasse-4/
END:VEVENT
BEGIN:VEVENT
DTSTART;VALUE=DATE:20251013
DTEND;VALUE=DATE:20251025
DTSTAMP:20260419T171039
CREATED:20250822T111804Z
LAST-MODIFIED:20250822T111804Z
UID:2847-1760313600-1761350399@www.kgs-beeckstrasse.de
SUMMARY:Herbstferien
DESCRIPTION:
URL:http://www.kgs-beeckstrasse.de/events/herbstferien-3/
END:VEVENT
BEGIN:VEVENT
DTSTART;VALUE=DATE:20251010
DTEND;VALUE=DATE:20251011
DTSTAMP:20260419T171039
CREATED:20250822T111727Z
LAST-MODIFIED:20250822T111727Z
UID:2845-1760054400-1760140799@www.kgs-beeckstrasse.de
SUMMARY:OGS Konzeptionstag (keine OGS)
DESCRIPTION:
URL:http://www.kgs-beeckstrasse.de/events/ogs-konzeptionstag-keine-ogs/
END:VEVENT
BEGIN:VEVENT
DTSTART;VALUE=DATE:20251010
DTEND;VALUE=DATE:20251011
DTSTAMP:20260419T171039
CREATED:20250822T111519Z
LAST-MODIFIED:20250822T111519Z
UID:2843-1760054400-1760140799@www.kgs-beeckstrasse.de
SUMMARY:Mobilitätstag
DESCRIPTION:
URL:http://www.kgs-beeckstrasse.de/events/mobilitaetstag-2/
END:VEVENT
BEGIN:VEVENT
DTSTART;VALUE=DATE:20251003
DTEND;VALUE=DATE:20251004
DTSTAMP:20260419T171039
CREATED:20250822T111458Z
LAST-MODIFIED:20250822T111458Z
UID:2841-1759449600-1759535999@www.kgs-beeckstrasse.de
SUMMARY:frei: Tag der dt. Einheit
DESCRIPTION:
URL:http://www.kgs-beeckstrasse.de/events/frei-tag-der-dt-einheit-2/
END:VEVENT
END:VCALENDAR